BEGIN:VCALENDAR
VERSION:2.0
PRODID:https://github.com/derhansen/sf_event_mgt
METHOD:PUBLISH
BEGIN:VEVENT
UID:118-25@sc-buchwald.de
CLASS: PUBLIC
SUMMARY:Siegerehrung Vereins- u. Betriebspokalschießen
DESCRIPTION:
LOCATION:Luftdruck Stände
DTSTAMP:20250827T085420Z
DTSTART:20251024T180000Z
DTEND:20251024T190000Z
END:VEVENT
END:VCALENDAR