BEGIN:VCALENDAR
VERSION:2.0
PRODID:https://github.com/derhansen/sf_event_mgt
METHOD:PUBLISH
BEGIN:VEVENT
UID:13-25@sc-buchwald.de
CLASS: PUBLIC
SUMMARY:Easter Cup Ceremonies
DESCRIPTION:
LOCATION:Old shooting range
DTSTAMP:20251231T150519Z
DTSTART:20260327T183000Z
DTEND:20260327T190000Z
END:VEVENT
END:VCALENDAR