BEGIN:VCALENDAR
VERSION:2.0
PRODID:https://github.com/derhansen/sf_event_mgt
METHOD:PUBLISH
BEGIN:VEVENT
UID:15-25@sc-buchwald.de
CLASS: PUBLIC
SUMMARY:General meeting
DESCRIPTION:
LOCATION:Old shooting range
DTSTAMP:20251231T150633Z
DTSTART:20260327T190000Z
DTEND:20260327T210000Z
END:VEVENT
END:VCALENDAR